BEGIN:VCALENDAR
VERSION:2.0
PRODID:-//JBHD - ECPv6.15.18//NONSGML v1.0//EN
CALSCALE:GREGORIAN
METHOD:PUBLISH
X-WR-CALNAME:JBHD
X-ORIGINAL-URL:https://jbhd.uk
X-WR-CALDESC:Events for JBHD
REFRESH-INTERVAL;VALUE=DURATION:PT1H
X-Robots-Tag:noindex
X-PUBLISHED-TTL:PT1H
BEGIN:VTIMEZONE
TZID:Europe/London
BEGIN:DAYLIGHT
TZOFFSETFROM:+0000
TZOFFSETTO:+0100
TZNAME:BST
DTSTART:20240331T010000
END:DAYLIGHT
BEGIN:STANDARD
TZOFFSETFROM:+0100
TZOFFSETTO:+0000
TZNAME:GMT
DTSTART:20241027T010000
END:STANDARD
BEGIN:DAYLIGHT
TZOFFSETFROM:+0000
TZOFFSETTO:+0100
TZNAME:BST
DTSTART:20250330T010000
END:DAYLIGHT
BEGIN:STANDARD
TZOFFSETFROM:+0100
TZOFFSETTO:+0000
TZNAME:GMT
DTSTART:20251026T010000
END:STANDARD
BEGIN:DAYLIGHT
TZOFFSETFROM:+0000
TZOFFSETTO:+0100
TZNAME:BST
DTSTART:20260329T010000
END:DAYLIGHT
BEGIN:STANDARD
TZOFFSETFROM:+0100
TZOFFSETTO:+0000
TZNAME:GMT
DTSTART:20261025T010000
END:STANDARD
BEGIN:DAYLIGHT
TZOFFSETFROM:+0000
TZOFFSETTO:+0100
TZNAME:BST
DTSTART:20270328T010000
END:DAYLIGHT
BEGIN:STANDARD
TZOFFSETFROM:+0100
TZOFFSETTO:+0000
TZNAME:GMT
DTSTART:20271031T010000
END:STANDARD
BEGIN:DAYLIGHT
TZOFFSETFROM:+0000
TZOFFSETTO:+0100
TZNAME:BST
DTSTART:20280326T010000
END:DAYLIGHT
BEGIN:STANDARD
TZOFFSETFROM:+0100
TZOFFSETTO:+0000
TZNAME:GMT
DTSTART:20281029T010000
END:STANDARD
BEGIN:DAYLIGHT
TZOFFSETFROM:+0000
TZOFFSETTO:+0100
TZNAME:BST
DTSTART:20290325T010000
END:DAYLIGHT
BEGIN:STANDARD
TZOFFSETFROM:+0100
TZOFFSETTO:+0000
TZNAME:GMT
DTSTART:20291028T010000
END:STANDARD
END:VTIMEZONE
BEGIN:VEVENT
DTSTART;VALUE=DATE:20250608
DTEND;VALUE=DATE:20290101
DTSTAMP:20260425T200114
CREATED:20250608T100358Z
LAST-MODIFIED:20250608T100705Z
UID:1962-1749340800-1861919999@jbhd.uk
SUMMARY:Seed Talks on demand - ADHD and Productivity course - Online
DESCRIPTION:This is an on demand course that has been pre-recorded by James Brown for Seed Talks. By purchasing a ticket from Seed Talks you will be able to access the recordings\, enabling you to watch and learn at your own pace\, at times to suit you. \nThe course will explore the unique link between ADHD and productivity\, enabling you to uncover barriers and discover practical strategies to harness your personal ADHD strengths while overcoming challenges. \nCourse content: \nModule 1: Understanding adult ADHD\nModule 2: Symptoms and diagnosis\nModule 3: ADHD & Productivity\nModule 4: Building your productivity toolkit \nCourse available on Seed Talks’ website here. \nView all upcoming events and subscribe to JBHD’s calendar here.
URL:https://jbhd.uk/event/seed-talks-adhd-and-productivity-on-demand-course-online/
LOCATION:Online
ORGANIZER;CN="Seed Talks":MAILTO:hello@seedtalks.co.uk
END:VEVENT
BEGIN:VEVENT
DTSTART;TZID=Europe/London:20260412T170000
DTEND;TZID=Europe/London:20260531T190000
DTSTAMP:20260425T200114
CREATED:20260418T083137Z
LAST-MODIFIED:20260418T083137Z
UID:2588-1776013200-1780254000@jbhd.uk
SUMMARY:Seed Talks - Living with AuDHD: An 8-week expert-led course [online]
DESCRIPTION:James is delivering 2 sessions of an 8-week course about living with AuDHD for Seed Talks. The course runs from April 12th to May 31st and James will be delivering sessions on Sunday 24th and Sunday 31st May. \nCourse Overview \n\nWeek 1: The Science of AuDHD – Dr Tom Nicholson\nWeek 2: The Neurodevelopmental Diagnostic Journey – Dr Tom Nicholson\nWeek 3: Understanding Individual Needs & Mapping These Out – Dr Lauren Breese\nWeek 4: Practical Emotional Regulation Strategies – Dr Lauren Breese\nWeek 5: Post-Diagnosis Acceptance – Dr Emma Craddock\nWeek 6: Sensory Overload & Sleep in AuDHD – Heather Darwhall Smith\nWeek 7: AuDHD & Relationships – Prof James Brown\nWeek 8: AuDHD & Burnout – Prof James Brown\n\nStream Opens: 5pm \nStream Starts: 5:05pm \nThis is an 18+ event. \nSeed Talks run the webinar using Zoom. \nWhen you join the webinar\, it will automatically turn your camera and microphone off so that no one else will be able to see or hear you. \nYou will however be able to interact with James and others in the webinar by typing your message in the chat. \nTickats available here
URL:https://jbhd.uk/event/seed-talks-living-with-audhd-an-8-week-expert-led-course-online/
ORGANIZER;CN="Seed Talks":MAILTO:hello@seedtalks.co.uk
END:VEVENT
BEGIN:VEVENT
DTSTART;TZID=Europe/London:20260519T193000
DTEND;TZID=Europe/London:20260519T213000
DTSTAMP:20260425T200114
CREATED:20260321T095752Z
LAST-MODIFIED:20260407T081822Z
UID:2361-1779219000-1779226200@jbhd.uk
SUMMARY:Seed Talks – The Science of AuDHD - Bournemouth
DESCRIPTION:ADHD and autism often co-occur\, commonly referred to as ‘AuDHD’\, and the lived experience of AuDHD can be very different from ADHD or autism alone. But what’s actually going on in the brains of people with both autism and ADHD? Join Professor James Brown for a deep dive into the neurobiology of ADHD and the emerging evidence that AuDHD may represent a distinct brain profile\, not simply a diagnostic overlap. \n  \nIn this talk\, we will explore the shared genetic\, neurological\, and development roots of AuDHD\, the internal conflicts it can create\, and how it may be a leading pathway to burnout.  We will also examine how executive function\, emotion regulation\, and sensory processing are influenced  by real\, measurable differences in brain connectivity and dynamics. Finally\, we’ll learn why stimulant ADHD medications can work differently\, why support strategies need to be tailored\, and how future research may reshape diagnosis and treatment.  \nVenue: Bournemouth Highcliff Marriott Hotel\, 105 St Michael’s Rd\, W Cliff Rd\, Bournemouth BH2 5DU \nSee outside the venue here \nSee inside the venue here \nFind their website here \nDoors open: 7 pm \nTalk starts: 7.30pm \nTickets available here  \nYou can view all events by JBHD Ltd and subscribe to the event calendar here.
URL:https://jbhd.uk/event/seed-talks-the-science-of-audhd-bournemouth/
LOCATION:Bournemouth Highcliff Marriott\, 105 West Cliff Road\, Bournemouth\, BH2 5DU\, United Kingdom
ORGANIZER;CN="Seed Talks":MAILTO:hello@seedtalks.co.uk
END:VEVENT
BEGIN:VEVENT
DTSTART;TZID=Europe/London:20260527T173000
DTEND;TZID=Europe/London:20260527T193000
DTSTAMP:20260425T200114
CREATED:20260418T103100Z
LAST-MODIFIED:20260418T103100Z
UID:2590-1779903000-1779910200@jbhd.uk
SUMMARY:Seed Talks - The Science of ADHD - Ipswich
DESCRIPTION:Talk on The Science of ADHD for Seed Talks\, followed by Q&A \nA talk on the science of ADHD that explores what ADHD is\, how brain areas and connections can differ for those with ADHD\, the impact of ADHD on individuals and society\, delivered along with personal reflections on how the symptoms of ADHD impact James’ everyday life. \nVenue: St Peter’s by the Waterfront\, College St\, Ipswich\, IP4 1BF \nSee outside the venue here \nSee inside the venue here \nFind their website here \nDoors open: 5.30pm \nTalk starts: 5.45pm \nThis is an 16+ event. \nTickets available here  \nYou can view all events by JBHD Ltd and subscribe to the event calendar here.
URL:https://jbhd.uk/event/seed-talks-the-science-of-adhd-ipswich/
LOCATION:St Peter’s by the Waterfront\, St Peter's by the Waterfront\, College St\, Ipswich\, IP4 1BF\, United Kingdom
ORGANIZER;CN="Seed Talks":MAILTO:hello@seedtalks.co.uk
END:VEVENT
BEGIN:VEVENT
DTSTART;TZID=Europe/London:20260610T193000
DTEND;TZID=Europe/London:20260610T213000
DTSTAMP:20260425T200114
CREATED:20260321T100046Z
LAST-MODIFIED:20260324T184701Z
UID:2363-1781119800-1781127000@jbhd.uk
SUMMARY:Seed Talks - The Science of ADHD talk - Reading
DESCRIPTION:A talk on the science of ADHD that explores what ADHD is\, how brain areas and connections can differ for those with ADHD\, the impact of ADHD on individuals and society\, delivered along with personal reflections on how the symptoms of ADHD impact James’ everyday life. Followed by a Q&A. \nVenue: Sub89\, 110-117 Friar St\, Reading\, Berkshire\, RG1 1EP \nSee outside the venue here \nDoors open: 6.45pm \nTalk starts: 7.30pm \nThis is an 18+ event \nTickets available here  \nYou can view all events by JBHD Ltd and subscribe to the event calendar here.
URL:https://jbhd.uk/event/seed-talks-the-science-of-adhd-talk-reading/
LOCATION:Sub89\, 110-117 Friar St\, Reading\, Berkshire\, RG1 1EP\, United Kingdom
ORGANIZER;CN="Seed Talks":MAILTO:hello@seedtalks.co.uk
END:VEVENT
BEGIN:VEVENT
DTSTART;TZID=Europe/London:20260615T180000
DTEND;TZID=Europe/London:20260615T200000
DTSTAMP:20260425T200114
CREATED:20260407T153649Z
LAST-MODIFIED:20260418T114735Z
UID:2585-1781546400-1781553600@jbhd.uk
SUMMARY:Seed Talks - The Science of AuDHD - Cambridge
DESCRIPTION:ADHD and autism often co-occur\, commonly referred to as ‘AuDHD’\, and the lived experience of AuDHD can be very different from ADHD or autism alone. But what’s actually going on in the brains of people with both autism and ADHD? Join Professor James Brown for a deep dive into the neurobiology of ADHD and the emerging evidence that AuDHD may represent a distinct brain profile\, not simply a diagnostic overlap. \nIn this talk\, we will explore the shared genetic\, neurological\, and development roots of AuDHD\, the internal conflicts it can create\, and how it may be a leading pathway to burnout.  We will also examine how executive function\, emotion regulation\, and sensory processing are influenced  by real\, measurable differences in brain connectivity and dynamics. Finally\, we’ll learn why stimulant ADHD medications can work differently\, why support strategies need to be tailored\, and how future research may reshape diagnosis and treatment.  \n  \nVenue: Cambridge Junction\, Clifton Way Cambridge CB1 7GX \nSee outside the venue here \nSee inside the venue here \nVenue info here \nFind info on directions and parking here \nFind accessibility info here \n  \nDoors open: 6pm \nTalk starts: 6.15pm \n  \nTickets available here  \nYou can view all events by JBHD Ltd and subscribe to the event calendar here.
URL:https://jbhd.uk/event/seed-talks-the-science-of-audhd-cambridge/
LOCATION:Cambridge Junction\, Clifton Way\, Cambridge\, CB1 7GX\, United Kingdom
ORGANIZER;CN="Seed Talks":MAILTO:hello@seedtalks.co.uk
END:VEVENT
END:VCALENDAR